BEGIN:VCALENDAR
VERSION:2.0
PRODID:SchoolNow
CALSCALE:GREGORIAN
BEGIN:VEVENT
UID:6554438c-21ee-11ec-ba5a-0a4cb444b7d9
DTSTAMP:20210930T130032Z
SUMMARY:CHS Girls Basketball vs Westgate
LOCATION:Westgate High School
URL;VALUE=URI:https://www.lpssonline.com/schools/carencro/calendar/2779756/
 chs-girls-basketball-vs-westgate
DTSTART:20220114T233000Z
DTEND:20220115T030000Z
END:VEVENT
END:VCALENDAR
