BEGIN:VCALENDAR
VERSION:2.0
PRODID:SchoolNow
CALSCALE:GREGORIAN
BEGIN:VEVENT
UID:a994442a-21ee-11ec-80f7-0a4cb444b7d9
DTSTAMP:20210930T130227Z
SUMMARY:CHS Girls Basketball vs Teurlings
LOCATION:Teurlings Catholic High School
URL;VALUE=URI:https://www.lpssonline.com/schools/carencro/calendar/2779757/
 chs-girls-basketball-vs-teurlings
DTSTART:20220118T233000Z
DTEND:20220119T030000Z
END:VEVENT
END:VCALENDAR
