BEGIN:VCALENDAR
VERSION:2.0
PRODID:SchoolNow
CALSCALE:GREGORIAN
BEGIN:VEVENT
UID:fababbb8-21ee-11ec-a612-0a4cb444b7d9
DTSTAMP:20210930T130443Z
SUMMARY:CHS Girls Basketball vs Northside High
LOCATION:Northside High School
URL;VALUE=URI:https://www.lpssonline.com/schools/carencro/calendar/2779759/
 chs-girls-basketball-vs-northside-high
DTSTART:20220121T233000Z
DTEND:20220122T003000Z
END:VEVENT
END:VCALENDAR
