BEGIN:VCALENDAR
VERSION:2.0
PRODID:SchoolNow
CALSCALE:GREGORIAN
BEGIN:VEVENT
UID:4bf54c82-21ef-11ec-8764-0a4cb444b7d9
DTSTAMP:20210930T130659Z
SUMMARY:CHS Girls Basketball vs Lakeview High School
LOCATION:Carencro High School
URL;VALUE=URI:https://www.lpssonline.com/schools/carencro/calendar/2779762/
 chs-girls-basketball-vs-lakeview-high-school
DTSTART:20220125T113000Z
DTEND:20220125T143000Z
END:VEVENT
END:VCALENDAR
