BEGIN:VCALENDAR
VERSION:2.0
PRODID:SchoolNow
CALSCALE:GREGORIAN
BEGIN:VEVENT
UID:0f12a594-21f4-11ec-a1c8-0202d4949543
DTSTAMP:20210930T134105Z
SUMMARY:Homecoming 2021 Dress Up Days: Mellow Monday
URL;VALUE=URI:https://www.lpssonline.com/schools/carencro/calendar/2779805/
 homecoming-2021-dress-up-days-mellow-monday
DTSTART;VALUE=DATE:20211011
DTEND;VALUE=DATE:20211012
END:VEVENT
END:VCALENDAR
