BEGIN:VCALENDAR
VERSION:2.0
PRODID:SchoolNow
CALSCALE:GREGORIAN
BEGIN:VEVENT
UID:7ba932cc-21f4-11ec-910d-0202d4949543
DTSTAMP:20210930T134407Z
SUMMARY:Homecoming 2021 Dress Up Days: Twin Day
URL;VALUE=URI:https://www.lpssonline.com/schools/carencro/calendar/2779807/
 homecoming-2021-dress-up-days-twin-day
DTSTART;VALUE=DATE:20211012
DTEND;VALUE=DATE:20211013
END:VEVENT
END:VCALENDAR
