BEGIN:VCALENDAR
VERSION:2.0
PRODID:SchoolNow
CALSCALE:GREGORIAN
BEGIN:VEVENT
UID:e3a4df0c-21f4-11ec-94ee-0202d4949543
DTSTAMP:20210930T134701Z
SUMMARY:Homecoming 2021 Dress Up Days: Class War
URL;VALUE=URI:https://www.lpssonline.com/schools/carencro/calendar/2779810/
 homecoming-2021-dress-up-days-class-war
DTSTART;VALUE=DATE:20211013
DTEND;VALUE=DATE:20211014
END:VEVENT
END:VCALENDAR
