BEGIN:VCALENDAR
VERSION:2.0
PRODID:SchoolNow
CALSCALE:GREGORIAN
BEGIN:VEVENT
UID:9076bfc0-21f5-11ec-bcc4-0202d4949543
DTSTAMP:20210930T135151Z
SUMMARY:Homecoming 2021 Dress Up Days: Game On
URL;VALUE=URI:https://www.lpssonline.com/schools/carencro/calendar/2779815/
 homecoming-2021-dress-up-days-game-on
DTSTART;VALUE=DATE:20211015
DTEND;VALUE=DATE:20211016
END:VEVENT
END:VCALENDAR
