BEGIN:VCALENDAR
VERSION:2.0
PRODID:SchoolNow
CALSCALE:GREGORIAN
BEGIN:VEVENT
UID:270ddada-22b5-11ec-afcf-0a8f23f6a803
DTSTAMP:20211001T124318Z
SUMMARY:CHS Girls Basketball vs St. Thomas More
LOCATION:St. Thomas More Catholics High School
URL;VALUE=URI:https://www.lpssonline.com/schools/carencro/calendar/2782467/
 chs-girls-basketball-vs-st-thomas-more
DTSTART:20220128T193000Z
DTEND:20220129T033000Z
END:VEVENT
END:VCALENDAR
