BEGIN:VCALENDAR
VERSION:2.0
PRODID:SchoolNow
CALSCALE:GREGORIAN
BEGIN:VEVENT
UID:a78b8fae-22b5-11ec-9ba9-0a8f23f6a803
DTSTAMP:20211001T124653Z
SUMMARY:CHS Girls Basketball vs Westgate High
LOCATION:Carencro High School
URL;VALUE=URI:https://www.lpssonline.com/schools/carencro/calendar/2782468/
 chs-girls-basketball-vs-westgate-high
DTSTART:20220201T233000Z
DTEND:20220202T033000Z
END:VEVENT
END:VCALENDAR
