BEGIN:VCALENDAR
VERSION:2.0
PRODID:SchoolNow
CALSCALE:GREGORIAN
BEGIN:VEVENT
UID:e32fd7ea-22b5-11ec-8e84-0a8f23f6a803
DTSTAMP:20211001T124833Z
SUMMARY:CHS Girls Basketball vs Teurlings
LOCATION:Carencro High School
URL;VALUE=URI:https://www.lpssonline.com/schools/carencro/calendar/2782469/
 chs-girls-basketball-vs-teurlings
DTSTART:20220204T233000Z
DTEND:20220205T033000Z
END:VEVENT
END:VCALENDAR
