BEGIN:VCALENDAR
VERSION:2.0
PRODID:SchoolNow
CALSCALE:GREGORIAN
BEGIN:VEVENT
UID:a20fc92c-22b6-11ec-9c5c-0a8f23f6a803
DTSTAMP:20211001T125353Z
SUMMARY:CHS Girls Basketball vs Northside High
LOCATION:Northside High School
URL;VALUE=URI:https://www.lpssonline.com/schools/carencro/calendar/2782470/
 chs-girls-basketball-vs-northside-high
DTSTART:20220208T233000Z
DTEND:20220209T003000Z
END:VEVENT
END:VCALENDAR
