BEGIN:VCALENDAR
VERSION:2.0
PRODID:SchoolNow
CALSCALE:GREGORIAN
BEGIN:VEVENT
UID:82bf7480-2b78-11ec-bd88-02303366083f
DTSTAMP:20211012T162153Z
SUMMARY:Parent-Teacher Conference Day
URL;VALUE=URI:https://www.lpssonline.com/schools/carencro/calendar/2809061/
 parent-teacher-conference-day
DTSTART;VALUE=DATE:20211020
DTEND;VALUE=DATE:20211021
END:VEVENT
END:VCALENDAR
