BEGIN:VCALENDAR
VERSION:2.0
PRODID:SchoolNow
CALSCALE:GREGORIAN
BEGIN:VEVENT
UID:69b910e0-2b9b-11ec-b7ff-0a9056dfaaeb
DTSTAMP:20211012T203143Z
SUMMARY:VB vs Leesville
LOCATION:Carencro High School
URL;VALUE=URI:https://www.lpssonline.com/schools/carencro/calendar/2810178/
 vb-vs-leesville
DTSTART:20211012T210000Z
DTEND:20211012T230000Z
END:VEVENT
END:VCALENDAR
