BEGIN:VCALENDAR
VERSION:2.0
PRODID:SchoolNow
CALSCALE:GREGORIAN
BEGIN:VEVENT
UID:82369962-2b9b-11ec-a8c8-0a9056dfaaeb
DTSTAMP:20211012T203224Z
SUMMARY:VB vs LaGrange
LOCATION:Carencro High School
URL;VALUE=URI:https://www.lpssonline.com/schools/carencro/calendar/2810179/
 vb-vs-lagrange
DTSTART:20211014T210000Z
DTEND:20211014T230000Z
END:VEVENT
END:VCALENDAR
