BEGIN:VCALENDAR
VERSION:2.0
PRODID:SchoolNow
CALSCALE:GREGORIAN
BEGIN:VEVENT
UID:977cdade-2b9b-11ec-8311-0a9056dfaaeb
DTSTAMP:20211012T203300Z
SUMMARY:VB at Beau Chene
LOCATION:Beau Chene High School
URL;VALUE=URI:https://www.lpssonline.com/schools/carencro/calendar/2810180/
 vb-at-beau-chene
DTSTART:20211019T210000Z
DTEND:20211019T230000Z
END:VEVENT
END:VCALENDAR
