BEGIN:VCALENDAR
VERSION:2.0
PRODID:SchoolNow
CALSCALE:GREGORIAN
BEGIN:VEVENT
UID:af152520-2b9b-11ec-aefd-0a9056dfaaeb
DTSTAMP:20211012T203339Z
SUMMARY:VB vs Northside
LOCATION:Carencro High School
URL;VALUE=URI:https://www.lpssonline.com/schools/carencro/calendar/2810181/
 vb-vs-northside
DTSTART:20211020T210000Z
DTEND:20211020T230000Z
END:VEVENT
END:VCALENDAR
