BEGIN:VCALENDAR
VERSION:2.0
PRODID:SchoolNow
CALSCALE:GREGORIAN
BEGIN:VEVENT
UID:ccc92c4c-2b9b-11ec-9044-0a9056dfaaeb
DTSTAMP:20211012T203429Z
SUMMARY:VB at Opelousas
LOCATION:Opelousas High School
URL;VALUE=URI:https://www.lpssonline.com/schools/carencro/calendar/2810182/
 vb-at-opelousas
DTSTART:20211026T210000Z
DTEND:20211026T230000Z
END:VEVENT
END:VCALENDAR
