BEGIN:VCALENDAR
VERSION:2.0
PRODID:SchoolNow
CALSCALE:GREGORIAN
BEGIN:VEVENT
UID:e88dfcdc-2b9b-11ec-ba84-0a9056dfaaeb
DTSTAMP:20211012T203516Z
SUMMARY:VB at Leesville
LOCATION:Leesville High School
URL;VALUE=URI:https://www.lpssonline.com/schools/carencro/calendar/2810183/
 vb-at-leesville
DTSTART:20211028T210000Z
DTEND:20211028T230000Z
END:VEVENT
END:VCALENDAR
