BEGIN:VCALENDAR
VERSION:2.0
PRODID:SchoolNow
CALSCALE:GREGORIAN
BEGIN:VEVENT
UID:c95cd03a-2c2d-11ec-96a6-02927989bc63
DTSTAMP:20211013T135930Z
SUMMARY:CHS Boys Basketball @ SLBOA Scrimmage
LOCATION:Beau Chene High School
URL;VALUE=URI:https://www.lpssonline.com/schools/carencro/calendar/2811893/
 chs-boys-basketball-slboa-scrimmage
DTSTART:20211111T000000Z
DTEND:20211111T010000Z
END:VEVENT
END:VCALENDAR
