BEGIN:VCALENDAR
VERSION:2.0
PRODID:SchoolNow
CALSCALE:GREGORIAN
BEGIN:VEVENT
UID:3a0ddc72-42f7-11ec-ae04-0e116a20b621
DTSTAMP:20211111T135653Z
SUMMARY:Football at Belaire High
LOCATION:Belaire Magnet High School
URL;VALUE=URI:https://www.lpssonline.com/schools/carencro/calendar/2885203/
 football-at-belaire-high
DTSTART:20211113T010000Z
DTEND:20211113T040000Z
END:VEVENT
END:VCALENDAR
