BEGIN:VCALENDAR
VERSION:2.0
PRODID:SchoolNow
CALSCALE:GREGORIAN
BEGIN:VEVENT
UID:85c67bba-4653-11ec-b5f9-02e236b0774b
DTSTAMP:20211115T203508Z
SUMMARY:Carencro Powerlifting Meet
URL;VALUE=URI:https://www.lpssonline.com/schools/carencro/calendar/2893760/
 carencro-powerlifting-meet
DTSTART;VALUE=DATE:20220115
DTEND;VALUE=DATE:20220116
END:VEVENT
END:VCALENDAR
