BEGIN:VCALENDAR
VERSION:2.0
PRODID:SchoolNow
CALSCALE:GREGORIAN
BEGIN:VEVENT
UID:b74c4ade-4653-11ec-a0e1-02e236b0774b
DTSTAMP:20211115T203631Z
SUMMARY:Carencro Powerlifting Meet
LOCATION:University of Louisiana at Lafayette
URL;VALUE=URI:https://www.lpssonline.com/schools/carencro/calendar/2893898/
 carencro-powerlifting-meet
DTSTART;VALUE=DATE:20220205
DTEND;VALUE=DATE:20220206
END:VEVENT
END:VCALENDAR
