BEGIN:VCALENDAR
VERSION:2.0
PRODID:SchoolNow
CALSCALE:GREGORIAN
BEGIN:VEVENT
UID:8afc7026-eda1-11ec-9987-0a92716e8889
DTSTAMP:20220616T183332Z
SUMMARY:August 9th 1st-5th Meet & Greet and Prek and K Orientation
URL;VALUE=URI:https://www.lpssonline.com/schools/duson/calendar/3221677/aug
 ust-9th-1st-5th-meet-greet
DTSTART;VALUE=DATE:20220808
DTEND;VALUE=DATE:20220810
END:VEVENT
END:VCALENDAR
