BEGIN:VCALENDAR
VERSION:2.0
PRODID:SchoolNow
CALSCALE:GREGORIAN
BEGIN:VEVENT
UID:b3be900a-932b-11ec-bf85-02f310dc2fef
DTSTAMP:20220221T153633Z
SUMMARY:Parent Workshop
URL;VALUE=URI:https://www.lpssonline.com/schools/judice/calendar/3110758/pa
 rent-workshop
DTSTART:20220224T230000Z
DTEND:20220225T000000Z
ATTACH;FILENAME=Academic Parent workshop flyer.docx.pdf;FMTTYPE=application
 /pdf:https://campussuite-storage.s3.amazonaws.com/prod/1559041/a2660bd2-ba
 bd-11ea-909f-0ab4bd0e017d/2378166/06f64362-932c-11ec-afb5-02f310dc2fef/fil
 e/Academic Parent workshop flyer.docx.pdf
END:VEVENT
END:VCALENDAR
