BEGIN:VCALENDAR
VERSION:2.0
PRODID:SchoolNow
CALSCALE:GREGORIAN
BEGIN:VEVENT
UID:5bc6013a-3d9f-11f1-8dbf-0a58a9feac02
DTSTAMP:20260424T173007Z
SUMMARY:10th & 11th Grade Parent Night
LOCATION:NHS Cafeteria
URL;VALUE=URI:https://www.lpssonline.com/schools/northside/calendar/9009606
 /10th-11th-grade-parent-night
DTSTART:20260429T220000Z
DTEND:20260429T230000Z
END:VEVENT
END:VCALENDAR
