BEGIN:VCALENDAR
VERSION:2.0
PRODID:SchoolNow
CALSCALE:GREGORIAN
BEGIN:VEVENT
UID:851db206-b197-11eb-9dc8-0eaf4aa89b4d
DTSTAMP:20210510T135629Z
SUMMARY:Memorial Day
URL;VALUE=URI:https://www.lpssonline.com/schools/paul-breaux/calendar/25967
 50/memorial-day
DTSTART;VALUE=DATE:20220530
DTEND;VALUE=DATE:20220531
END:VEVENT
END:VCALENDAR
