BEGIN:VCALENDAR
VERSION:2.0
PRODID:SchoolNow
CALSCALE:GREGORIAN
BEGIN:VEVENT
UID:851dc93a-b197-11eb-a460-0eaf4aa89b4d
DTSTAMP:20210510T135629Z
SUMMARY:Report Cards Go Home
URL;VALUE=URI:https://www.lpssonline.com/schools/paul-breaux/calendar/25967
 51/report-cards-go-home
DTSTART;VALUE=DATE:20220525
DTEND;VALUE=DATE:20220526
END:VEVENT
END:VCALENDAR
