BEGIN:VCALENDAR
VERSION:2.0
PRODID:SchoolNow
CALSCALE:GREGORIAN
BEGIN:VEVENT
UID:851e053a-b197-11eb-a9ff-0eaf4aa89b4d
DTSTAMP:20210510T135629Z
SUMMARY:Progress Reports Go Home
URL;VALUE=URI:https://www.lpssonline.com/schools/paul-breaux/calendar/25967
 54/progress-reports-go-home
DTSTART;VALUE=DATE:20220425
DTEND;VALUE=DATE:20220426
END:VEVENT
END:VCALENDAR
