BEGIN:VCALENDAR
VERSION:2.0
PRODID:SchoolNow
CALSCALE:GREGORIAN
BEGIN:VEVENT
UID:851e1b6a-b197-11eb-b265-0eaf4aa89b4d
DTSTAMP:20210510T135629Z
SUMMARY:Easter / Spring Break
URL;VALUE=URI:https://www.lpssonline.com/schools/paul-breaux/calendar/25967
 55/easter-spring-break
DTSTART;VALUE=DATE:20220415
DTEND;VALUE=DATE:20220423
END:VEVENT
END:VCALENDAR
