BEGIN:VCALENDAR
VERSION:2.0
PRODID:SchoolNow
CALSCALE:GREGORIAN
BEGIN:VEVENT
UID:851e2f92-b197-11eb-ba49-0eaf4aa89b4d
DTSTAMP:20210510T135629Z
SUMMARY:Report Cards Go Home
URL;VALUE=URI:https://www.lpssonline.com/schools/paul-breaux/calendar/25967
 56/report-cards-go-home
DTSTART;VALUE=DATE:20220323
DTEND;VALUE=DATE:20220324
END:VEVENT
END:VCALENDAR
