BEGIN:VCALENDAR
VERSION:2.0
PRODID:SchoolNow
CALSCALE:GREGORIAN
BEGIN:VEVENT
UID:851e4360-b197-11eb-a271-0eaf4aa89b4d
DTSTAMP:20210510T135629Z
SUMMARY:Last Day of 3rd 9 Week Period
URL;VALUE=URI:https://www.lpssonline.com/schools/paul-breaux/calendar/25967
 57/last-day-of-3rd-9-week-period
DTSTART;VALUE=DATE:20220316
DTEND;VALUE=DATE:20220317
END:VEVENT
END:VCALENDAR
