BEGIN:VCALENDAR
VERSION:2.0
PRODID:SchoolNow
CALSCALE:GREGORIAN
BEGIN:VEVENT
UID:851e6c6e-b197-11eb-bc88-0eaf4aa89b4d
DTSTAMP:20210510T135629Z
SUMMARY:Parent Teacher Conference Day (Students Do Not Report)
URL;VALUE=URI:https://www.lpssonline.com/schools/paul-breaux/calendar/25967
 59/parent-teacher-conference-day-students-do-not-report
DTSTART:20220225T133000Z
DTEND:20220225T173000Z
END:VEVENT
END:VCALENDAR
