BEGIN:VCALENDAR
VERSION:2.0
PRODID:SchoolNow
CALSCALE:GREGORIAN
BEGIN:VEVENT
UID:851e801e-b197-11eb-a8a5-0eaf4aa89b4d
DTSTAMP:20210510T135629Z
SUMMARY:After School Conferences (Students Report for Regular Day)
URL;VALUE=URI:https://www.lpssonline.com/schools/paul-breaux/calendar/25967
 60/after-school-conferences-students-report-for-regular-day
DTSTART;VALUE=DATE:20220224
DTEND;VALUE=DATE:20220225
END:VEVENT
END:VCALENDAR
