BEGIN:VCALENDAR
VERSION:2.0
PRODID:SchoolNow
CALSCALE:GREGORIAN
BEGIN:VEVENT
UID:851ea792-b197-11eb-b048-0eaf4aa89b4d
DTSTAMP:20210510T135629Z
SUMMARY:MLK Day
URL;VALUE=URI:https://www.lpssonline.com/schools/paul-breaux/calendar/25967
 62/mlk-day
DTSTART;VALUE=DATE:20220117
DTEND;VALUE=DATE:20220118
END:VEVENT
END:VCALENDAR
