BEGIN:VCALENDAR
VERSION:2.0
PRODID:SchoolNow
CALSCALE:GREGORIAN
BEGIN:VEVENT
UID:851ed0e6-b197-11eb-9a57-0eaf4aa89b4d
DTSTAMP:20210510T135629Z
SUMMARY:Last Day of 2nd 9 Week Period
URL;VALUE=URI:https://www.lpssonline.com/schools/paul-breaux/calendar/25967
 64/last-day-of-2nd-9-week-period
DTSTART;VALUE=DATE:20220107
DTEND;VALUE=DATE:20220108
END:VEVENT
END:VCALENDAR
