BEGIN:VCALENDAR
VERSION:2.0
PRODID:SchoolNow
CALSCALE:GREGORIAN
BEGIN:VEVENT
UID:851ee680-b197-11eb-9565-0eaf4aa89b4d
DTSTAMP:20210510T135629Z
SUMMARY:Christmas Holiday
URL;VALUE=URI:https://www.lpssonline.com/schools/paul-breaux/calendar/25967
 65/christmas-holiday
DTSTART;VALUE=DATE:20211220
DTEND;VALUE=DATE:20220102
END:VEVENT
END:VCALENDAR
