BEGIN:VCALENDAR
VERSION:2.0
PRODID:SchoolNow
CALSCALE:GREGORIAN
BEGIN:VEVENT
UID:851f111e-b197-11eb-8891-0eaf4aa89b4d
DTSTAMP:20210510T135629Z
SUMMARY:Progress Reports Go Home
URL;VALUE=URI:https://www.lpssonline.com/schools/paul-breaux/calendar/25967
 67/progress-reports-go-home
DTSTART;VALUE=DATE:20211116
DTEND;VALUE=DATE:20211117
END:VEVENT
END:VCALENDAR
