BEGIN:VCALENDAR
VERSION:2.0
PRODID:SchoolNow
CALSCALE:GREGORIAN
BEGIN:VEVENT
UID:851f2514-b197-11eb-b108-0eaf4aa89b4d
DTSTAMP:20210510T135629Z
SUMMARY:Parent-Teacher Conference Day (Students Do Not Report)
URL;VALUE=URI:https://www.lpssonline.com/schools/paul-breaux/calendar/25967
 68/parent-teacher-conference-day-students-do-not-report
DTSTART:20211019T160000Z
DTEND:20211020T000000Z
END:VEVENT
END:VCALENDAR
