BEGIN:VCALENDAR
VERSION:2.0
PRODID:SchoolNow
CALSCALE:GREGORIAN
BEGIN:VEVENT
UID:851f38ec-b197-11eb-96ae-0eaf4aa89b4d
DTSTAMP:20210510T135629Z
SUMMARY:Report Cards Go Home
URL;VALUE=URI:https://www.lpssonline.com/schools/paul-breaux/calendar/25967
 69/report-cards-go-home
DTSTART;VALUE=DATE:20211019
DTEND;VALUE=DATE:20211020
END:VEVENT
END:VCALENDAR
