BEGIN:VCALENDAR
VERSION:2.0
PRODID:SchoolNow
CALSCALE:GREGORIAN
BEGIN:VEVENT
UID:851f4ee0-b197-11eb-9dc0-0eaf4aa89b4d
DTSTAMP:20210510T135629Z
SUMMARY:Fall Break
URL;VALUE=URI:https://www.lpssonline.com/schools/paul-breaux/calendar/25967
 70/fall-break
DTSTART;VALUE=DATE:20211018
DTEND;VALUE=DATE:20211019
END:VEVENT
END:VCALENDAR
