BEGIN:VCALENDAR
VERSION:2.0
PRODID:SchoolNow
CALSCALE:GREGORIAN
BEGIN:VEVENT
UID:851f62a4-b197-11eb-b8be-0eaf4aa89b4d
DTSTAMP:20210510T135629Z
SUMMARY:Last Day of 1st 9 Week Period
URL;VALUE=URI:https://www.lpssonline.com/schools/paul-breaux/calendar/25967
 71/last-day-of-1st-9-week-period
DTSTART;VALUE=DATE:20211012
DTEND;VALUE=DATE:20211013
END:VEVENT
END:VCALENDAR
