BEGIN:VCALENDAR
VERSION:2.0
PRODID:SchoolNow
CALSCALE:GREGORIAN
BEGIN:VEVENT
UID:851f765e-b197-11eb-b3b5-0eaf4aa89b4d
DTSTAMP:20210510T135629Z
SUMMARY:Labor Day
URL;VALUE=URI:https://www.lpssonline.com/schools/paul-breaux/calendar/25967
 72/labor-day
DTSTART;VALUE=DATE:20210906
DTEND;VALUE=DATE:20210907
END:VEVENT
END:VCALENDAR
