BEGIN:VCALENDAR
VERSION:2.0
PRODID:SchoolNow
CALSCALE:GREGORIAN
BEGIN:VEVENT
UID:851f89f0-b197-11eb-b725-0eaf4aa89b4d
DTSTAMP:20210510T135629Z
SUMMARY:Students Report- Day 1 of SY21-22
URL;VALUE=URI:https://www.lpssonline.com/schools/paul-breaux/calendar/25967
 73/students-report-day-1-of-sy21-22
DTSTART;VALUE=DATE:20210812
DTEND;VALUE=DATE:20210813
END:VEVENT
END:VCALENDAR
