BEGIN:VCALENDAR
VERSION:2.0
PRODID:SchoolNow
CALSCALE:GREGORIAN
BEGIN:VEVENT
UID:851f9ee0-b197-11eb-9dcc-0eaf4aa89b4d
DTSTAMP:20210510T135629Z
SUMMARY:MARDI GRAS HOLIDAY
URL;VALUE=URI:https://www.lpssonline.com/schools/paul-breaux/calendar/25967
 74/mardi-gras-holiday
DTSTART:20210215T120000Z
DTEND:20210216T000000Z
END:VEVENT
END:VCALENDAR
