BEGIN:VCALENDAR
VERSION:2.0
PRODID:SchoolNow
CALSCALE:GREGORIAN
BEGIN:VEVENT
UID:851fc668-b197-11eb-8d22-0eaf4aa89b4d
DTSTAMP:20210510T135629Z
SUMMARY:PROGRESS REPORTS GO HOME
URL;VALUE=URI:https://www.lpssonline.com/schools/paul-breaux/calendar/25967
 76/progress-reports-go-home
DTSTART;VALUE=DATE:20210301
DTEND;VALUE=DATE:20210302
END:VEVENT
END:VCALENDAR
