BEGIN:VCALENDAR
VERSION:2.0
PRODID:SchoolNow
CALSCALE:GREGORIAN
BEGIN:VEVENT
UID:851fd9c8-b197-11eb-8d9a-0eaf4aa89b4d
DTSTAMP:20210510T135629Z
SUMMARY:REPORT CARDS GO HOME
URL;VALUE=URI:https://www.lpssonline.com/schools/paul-breaux/calendar/25967
 77/report-cards-go-home
DTSTART;VALUE=DATE:20210401
DTEND;VALUE=DATE:20210402
END:VEVENT
END:VCALENDAR
