BEGIN:VCALENDAR
VERSION:2.0
PRODID:SchoolNow
CALSCALE:GREGORIAN
BEGIN:VEVENT
UID:851feee0-b197-11eb-8218-0eaf4aa89b4d
DTSTAMP:20210510T135629Z
SUMMARY:EASTER HOLIDAY
URL;VALUE=URI:https://www.lpssonline.com/schools/paul-breaux/calendar/25967
 78/easter-holiday
DTSTART:20210402T110000Z
DTEND:20210402T230000Z
END:VEVENT
END:VCALENDAR
