BEGIN:VCALENDAR
VERSION:2.0
PRODID:SchoolNow
CALSCALE:GREGORIAN
BEGIN:VEVENT
UID:8520029a-b197-11eb-a927-0eaf4aa89b4d
DTSTAMP:20210510T135629Z
SUMMARY:EASTER HOLIDAY
URL;VALUE=URI:https://www.lpssonline.com/schools/paul-breaux/calendar/25967
 79/easter-holiday
DTSTART:20210405T110000Z
DTEND:20210405T230000Z
END:VEVENT
END:VCALENDAR
