BEGIN:VCALENDAR
VERSION:2.0
PRODID:SchoolNow
CALSCALE:GREGORIAN
BEGIN:VEVENT
UID:85201618-b197-11eb-8e3c-0eaf4aa89b4d
DTSTAMP:20210510T135629Z
SUMMARY:MEMORIAL DAY HOLIDAY
URL;VALUE=URI:https://www.lpssonline.com/schools/paul-breaux/calendar/25967
 80/memorial-day-holiday
DTSTART:20210531T110000Z
DTEND:20210531T230000Z
END:VEVENT
END:VCALENDAR
